Package: STATegRa Version: 1.40.0 Command: rm -rf STATegRa.buildbin-libdir && mkdir STATegRa.buildbin-libdir && /Users/biocbuild/BBS/utils/build-universal.sh STATegRa_1.40.0.tar.gz /Library/Frameworks/R.framework/Resources/bin/R STATegRa.buildbin-libdir StartedAt: 2024-10-15 20:30:44 -0400 (Tue, 15 Oct 2024) EndedAt: 2024-10-15 20:31:02 -0400 (Tue, 15 Oct 2024) EllapsedTime: 18.2 seconds RetCode: 0 Status: OK PackageFile: STATegRa_1.40.0.tgz PackageFileSize: 4.885 MiB