Package: STATegRa Version: 1.40.0 Command: /Library/Frameworks/R.framework/Resources/bin/R CMD check --install=check:STATegRa.install-out.txt --library=/Library/Frameworks/R.framework/Resources/library --no-vignettes --timings STATegRa_1.40.0.tar.gz StartedAt: 2024-10-18 14:07:53 -0400 (Fri, 18 Oct 2024) EndedAt: 2024-10-18 14:12:10 -0400 (Fri, 18 Oct 2024) EllapsedTime: 256.7 seconds RetCode: 0 Status: OK CheckDir: STATegRa.Rcheck Warnings: 0