Package: STATegRa Version: 1.40.0 Command: rm -rf STATegRa.buildbin-libdir && mkdir STATegRa.buildbin-libdir && /Users/biocbuild/BBS/utils/build-universal.sh STATegRa_1.40.0.tar.gz /Library/Frameworks/R.framework/Resources/bin/R STATegRa.buildbin-libdir StartedAt: 2024-06-11 13:26:24 -0400 (Tue, 11 Jun 2024) EndedAt: 2024-06-11 13:26:53 -0400 (Tue, 11 Jun 2024) EllapsedTime: 28.6 seconds RetCode: 0 Status: OK PackageFile: STATegRa_1.40.0.tgz PackageFileSize: 4.882 MiB