Package: STATegRa Version: 1.40.0 Command: /home/biocbuild/bbs-3.19-bioc/R/bin/R CMD INSTALL STATegRa StartedAt: 2024-10-16 15:58:26 -0400 (Wed, 16 Oct 2024) EndedAt: 2024-10-16 15:58:39 -0400 (Wed, 16 Oct 2024) EllapsedTime: 12.2 seconds RetCode: 0 Status: OK