Package: STATegRa Version: 1.40.0 Command: E:\biocbuild\bbs-3.19-bioc\R\bin\R.exe CMD INSTALL STATegRa StartedAt: 2024-10-16 16:10:49 -0400 (Wed, 16 Oct 2024) EndedAt: 2024-10-16 16:11:33 -0400 (Wed, 16 Oct 2024) EllapsedTime: 43.9 seconds RetCode: 0 Status: OK