Package: STRINGdb Version: 2.16.4 Command: rm -rf STRINGdb.buildbin-libdir && mkdir STRINGdb.buildbin-libdir && /Users/biocbuild/BBS/utils/build-universal.sh STRINGdb_2.16.4.tar.gz /Library/Frameworks/R.framework/Resources/bin/R STRINGdb.buildbin-libdir StartedAt: 2024-06-11 13:26:56 -0400 (Tue, 11 Jun 2024) EndedAt: 2024-06-11 13:27:11 -0400 (Tue, 11 Jun 2024) EllapsedTime: 14.5 seconds RetCode: 0 Status: OK PackageFile: STRINGdb_2.16.4.tgz PackageFileSize: 10.13 MiB