Package: STRINGdb Version: 2.16.4 Command: /Library/Frameworks/R.framework/Resources/bin/R CMD INSTALL STRINGdb StartedAt: 2024-06-09 15:30:39 -0400 (Sun, 09 Jun 2024) EndedAt: 2024-06-09 15:30:47 -0400 (Sun, 09 Jun 2024) EllapsedTime: 8.2 seconds RetCode: 0 Status: OK