Package: STRINGdb Version: 2.16.2 Command: /home/biocbuild/R/R-beta-2024-04-15_r86425/bin/R CMD build --keep-empty-dirs --no-resave-data STRINGdb StartedAt: 2024-05-09 03:57:18 -0000 (Thu, 09 May 2024) EndedAt: 2024-05-09 04:02:23 -0000 (Thu, 09 May 2024) EllapsedTime: 304.4 seconds RetCode: 1 Status: ERROR PackageFile: None PackageFileSize: NA