Package: STRINGdb Version: 2.16.4 Command: /home/biocbuild/bbs-3.19-bioc/R/bin/R CMD build --keep-empty-dirs --no-resave-data STRINGdb StartedAt: 2024-10-16 21:03:50 -0400 (Wed, 16 Oct 2024) EndedAt: 2024-10-16 21:08:35 -0400 (Wed, 16 Oct 2024) EllapsedTime: 284.6 seconds RetCode: 0 Status: OK PackageFile: STRINGdb_2.16.4.tar.gz PackageFileSize: 9.87 MiB