Package: STRINGdb Version: 2.16.4 Command: chmod a+r STRINGdb -R && E:\biocbuild\bbs-3.19-bioc\R\bin\R.exe CMD build --keep-empty-dirs --no-resave-data STRINGdb StartedAt: 2024-10-16 22:13:40 -0400 (Wed, 16 Oct 2024) EndedAt: 2024-10-16 22:17:42 -0400 (Wed, 16 Oct 2024) EllapsedTime: 242.4 seconds RetCode: 0 Status: OK PackageFile: STRINGdb_2.16.4.tar.gz PackageFileSize: 9.872 MiB