Package: STRINGdb Version: 2.16.4 Command: E:\biocbuild\bbs-3.19-bioc\R\bin\R.exe CMD INSTALL STRINGdb StartedAt: 2024-10-16 16:11:13 -0400 (Wed, 16 Oct 2024) EndedAt: 2024-10-16 16:11:31 -0400 (Wed, 16 Oct 2024) EllapsedTime: 17.8 seconds RetCode: 0 Status: OK