Package: SWATH2stats Version: 1.34.0 Command: /Library/Frameworks/R.framework/Resources/bin/R CMD check --install=check:SWATH2stats.install-out.txt --library=/Library/Frameworks/R.framework/Resources/library --no-vignettes --timings SWATH2stats_1.34.0.tar.gz StartedAt: 2024-10-18 14:32:59 -0400 (Fri, 18 Oct 2024) EndedAt: 2024-10-18 14:35:51 -0400 (Fri, 18 Oct 2024) EllapsedTime: 171.5 seconds RetCode: 1 Status: ERROR CheckDir: SWATH2stats.Rcheck Warnings: NA