Package: SWATH2stats Version: 1.34.0 Command: /Library/Frameworks/R.framework/Resources/bin/R CMD INSTALL SWATH2stats StartedAt: 2024-10-16 16:59:24 -0400 (Wed, 16 Oct 2024) EndedAt: 2024-10-16 16:59:44 -0400 (Wed, 16 Oct 2024) EllapsedTime: 19.8 seconds RetCode: 0 Status: OK