Package: SWATH2stats Version: 1.34.0 Command: /home/biocbuild/R/R-beta-2024-04-15_r86425/bin/R CMD build --keep-empty-dirs --no-resave-data SWATH2stats StartedAt: 2024-05-09 04:00:33 -0000 (Thu, 09 May 2024) EndedAt: 2024-05-09 04:01:31 -0000 (Thu, 09 May 2024) EllapsedTime: 58.1 seconds RetCode: 0 Status: OK PackageFile: SWATH2stats_1.34.0.tar.gz PackageFileSize: 3.016 MiB