Package: SWATH2stats Version: 1.34.0 Command: rm -rf SWATH2stats.buildbin-libdir && mkdir SWATH2stats.buildbin-libdir && /Users/biocbuild/BBS/utils/build-universal.sh SWATH2stats_1.34.0.tar.gz /Library/Frameworks/R.framework/Resources/bin/R SWATH2stats.buildbin-libdir StartedAt: 2024-10-17 17:19:23 -0400 (Thu, 17 Oct 2024) EndedAt: 2024-10-17 17:20:06 -0400 (Thu, 17 Oct 2024) EllapsedTime: 43.3 seconds RetCode: 0 Status: OK PackageFile: SWATH2stats_1.34.0.tgz PackageFileSize: 3.164 MiB