Package: SWATH2stats Version: 1.34.0 Command: chmod a+r SWATH2stats -R && E:\biocbuild\bbs-3.19-bioc\R\bin\R.exe CMD build --keep-empty-dirs --no-resave-data SWATH2stats StartedAt: 2024-10-16 22:15:48 -0400 (Wed, 16 Oct 2024) EndedAt: 2024-10-16 22:17:06 -0400 (Wed, 16 Oct 2024) EllapsedTime: 78.6 seconds RetCode: 0 Status: OK PackageFile: SWATH2stats_1.34.0.tar.gz PackageFileSize: 2.925 MiB