Package: SWATH2stats Version: 1.34.0 Command: E:\biocbuild\bbs-3.19-bioc\R\bin\R.exe CMD INSTALL SWATH2stats StartedAt: 2024-10-16 16:37:59 -0400 (Wed, 16 Oct 2024) EndedAt: 2024-10-16 16:38:34 -0400 (Wed, 16 Oct 2024) EllapsedTime: 34.7 seconds RetCode: 0 Status: OK