Package: SamSPECTRAL Version: 1.58.0 Command: chmod a+r SamSPECTRAL -R && E:\biocbuild\bbs-3.19-bioc\R\bin\R.exe CMD build --keep-empty-dirs --no-resave-data SamSPECTRAL StartedAt: 2024-10-16 21:41:06 -0400 (Wed, 16 Oct 2024) EndedAt: 2024-10-16 21:42:19 -0400 (Wed, 16 Oct 2024) EllapsedTime: 73.1 seconds RetCode: 0 Status: OK PackageFile: SamSPECTRAL_1.58.0.tar.gz PackageFileSize: 833.4 KiB