Package: SemDist Version: 1.38.0 Command: /Library/Frameworks/R.framework/Resources/bin/R CMD build --keep-empty-dirs --no-resave-data SemDist StartedAt: 2024-10-17 09:02:37 -0400 (Thu, 17 Oct 2024) EndedAt: 2024-10-17 09:03:28 -0400 (Thu, 17 Oct 2024) EllapsedTime: 51.5 seconds RetCode: 0 Status: OK PackageFile: SemDist_1.38.0.tar.gz PackageFileSize: 1.953 MiB