Package: SemDist Version: 1.38.0 Command: /Library/Frameworks/R.framework/Resources/bin/R CMD check --install=check:SemDist.install-out.txt --library=/Library/Frameworks/R.framework/Resources/library --no-vignettes --timings SemDist_1.38.0.tar.gz StartedAt: 2024-10-18 11:58:36 -0400 (Fri, 18 Oct 2024) EndedAt: 2024-10-18 12:02:07 -0400 (Fri, 18 Oct 2024) EllapsedTime: 211.4 seconds RetCode: 0 Status: OK CheckDir: SemDist.Rcheck Warnings: 0