Package: SemDist Version: 1.38.0 Command: rm -rf SemDist.buildbin-libdir && mkdir SemDist.buildbin-libdir && /Users/biocbuild/BBS/utils/build-universal.sh SemDist_1.38.0.tar.gz /Library/Frameworks/R.framework/Resources/bin/R SemDist.buildbin-libdir StartedAt: 2024-06-11 13:12:18 -0400 (Tue, 11 Jun 2024) EndedAt: 2024-06-11 13:12:46 -0400 (Tue, 11 Jun 2024) EllapsedTime: 28.8 seconds RetCode: 0 Status: OK PackageFile: SemDist_1.38.0.tgz PackageFileSize: 1.99 MiB