Package: SemDist Version: 1.38.0 Command: /home/biocbuild/R/R-beta-2024-04-15_r86425/bin/R CMD build --keep-empty-dirs --no-resave-data SemDist StartedAt: 2024-05-09 03:32:38 -0000 (Thu, 09 May 2024) EndedAt: 2024-05-09 03:33:23 -0000 (Thu, 09 May 2024) EllapsedTime: 44.1 seconds RetCode: 0 Status: OK PackageFile: SemDist_1.38.0.tar.gz PackageFileSize: 1.943 MiB