Package: SemDist Version: 1.38.0 Command: /home/biocbuild/R/R-beta-2024-04-15_r86425/bin/R CMD check --install=check:SemDist.install-out.txt --library=/home/biocbuild/R/R-beta-2024-04-15_r86425/site-library --no-vignettes --timings SemDist_1.38.0.tar.gz StartedAt: 2024-05-09 11:50:48 -0000 (Thu, 09 May 2024) EndedAt: 2024-05-09 11:53:45 -0000 (Thu, 09 May 2024) EllapsedTime: 176.3 seconds RetCode: 0 Status: OK CheckDir: SemDist.Rcheck Warnings: 0