Package: SemDist Version: 1.38.0 Command: /Library/Frameworks/R.framework/Resources/bin/R CMD build --keep-empty-dirs --no-resave-data SemDist StartedAt: 2024-06-09 18:09:30 -0400 (Sun, 09 Jun 2024) EndedAt: 2024-06-09 18:10:12 -0400 (Sun, 09 Jun 2024) EllapsedTime: 41.4 seconds RetCode: 0 Status: OK PackageFile: SemDist_1.38.0.tar.gz PackageFileSize: 1.953 MiB