Package: SemDist Version: 1.38.0 Command: /Library/Frameworks/R.framework/Resources/bin/R CMD INSTALL SemDist StartedAt: 2024-06-09 15:11:18 -0400 (Sun, 09 Jun 2024) EndedAt: 2024-06-09 15:11:37 -0400 (Sun, 09 Jun 2024) EllapsedTime: 19.3 seconds RetCode: 0 Status: OK