Package: SemDist Version: 1.38.0 Command: rm -rf SemDist.buildbin-libdir && mkdir SemDist.buildbin-libdir && F:\biocbuild\bbs-3.19-bioc\R\bin\R.exe CMD INSTALL --build --library=SemDist.buildbin-libdir SemDist_1.38.0.tar.gz StartedAt: 2024-06-27 08:54:22 -0400 (Thu, 27 Jun 2024) EndedAt: 2024-06-27 08:54:44 -0400 (Thu, 27 Jun 2024) EllapsedTime: 22.6 seconds RetCode: 0 Status: OK PackageFile: SemDist_1.38.0.zip PackageFileSize: 1.918 MiB