Package: SemDist Version: 1.38.0 Command: chmod a+r SemDist -R && E:\biocbuild\bbs-3.19-bioc\R\bin\R.exe CMD build --keep-empty-dirs --no-resave-data SemDist StartedAt: 2024-10-16 21:53:32 -0400 (Wed, 16 Oct 2024) EndedAt: 2024-10-16 21:54:23 -0400 (Wed, 16 Oct 2024) EllapsedTime: 51.0 seconds RetCode: 0 Status: OK PackageFile: SemDist_1.38.0.tar.gz PackageFileSize: 1.859 MiB