Package: SeqVarTools Version: 1.42.0 Command: rm -rf SeqVarTools.buildbin-libdir && mkdir SeqVarTools.buildbin-libdir && /Users/biocbuild/BBS/utils/build-universal.sh SeqVarTools_1.42.0.tar.gz /Library/Frameworks/R.framework/Resources/bin/R SeqVarTools.buildbin-libdir StartedAt: 2024-10-17 17:11:38 -0400 (Thu, 17 Oct 2024) EndedAt: 2024-10-17 17:12:35 -0400 (Thu, 17 Oct 2024) EllapsedTime: 57.5 seconds RetCode: 0 Status: OK PackageFile: SeqVarTools_1.42.0.tgz PackageFileSize: 1.417 MiB