Package: SeqVarTools Version: 1.42.0 Command: /Library/Frameworks/R.framework/Resources/bin/R CMD build --keep-empty-dirs --no-resave-data SeqVarTools StartedAt: 2024-10-16 23:16:53 -0400 (Wed, 16 Oct 2024) EndedAt: 2024-10-16 23:19:52 -0400 (Wed, 16 Oct 2024) EllapsedTime: 178.8 seconds RetCode: 0 Status: OK PackageFile: SeqVarTools_1.42.0.tar.gz PackageFileSize: 1000 KiB