Package: SeqVarTools Version: 1.42.0 Command: /home/biocbuild/bbs-3.19-bioc/R/bin/R CMD build --keep-empty-dirs --no-resave-data SeqVarTools StartedAt: 2024-10-16 20:49:05 -0400 (Wed, 16 Oct 2024) EndedAt: 2024-10-16 20:49:53 -0400 (Wed, 16 Oct 2024) EllapsedTime: 48.1 seconds RetCode: 0 Status: OK PackageFile: SeqVarTools_1.42.0.tar.gz PackageFileSize: 1000 KiB