Package: SeqVarTools Version: 1.42.0 Command: F:\biocbuild\bbs-3.19-bioc\R\bin\R.exe CMD INSTALL SeqVarTools StartedAt: 2024-06-26 16:32:55 -0400 (Wed, 26 Jun 2024) EndedAt: 2024-06-26 16:33:34 -0400 (Wed, 26 Jun 2024) EllapsedTime: 39.1 seconds RetCode: 0 Status: OK