Package: SigsPack Version: 1.18.0 Command: /Library/Frameworks/R.framework/Resources/bin/R CMD build --keep-empty-dirs --no-resave-data SigsPack StartedAt: 2024-10-16 23:22:02 -0400 (Wed, 16 Oct 2024) EndedAt: 2024-10-16 23:26:23 -0400 (Wed, 16 Oct 2024) EllapsedTime: 260.7 seconds RetCode: 0 Status: OK PackageFile: SigsPack_1.18.0.tar.gz PackageFileSize: 527.4 KiB