Package: SigsPack Version: 1.18.0 Command: /home/biocbuild/bbs-3.19-bioc/R/bin/R CMD build --keep-empty-dirs --no-resave-data SigsPack StartedAt: 2024-10-16 20:51:10 -0400 (Wed, 16 Oct 2024) EndedAt: 2024-10-16 20:52:40 -0400 (Wed, 16 Oct 2024) EllapsedTime: 89.2 seconds RetCode: 0 Status: OK PackageFile: SigsPack_1.18.0.tar.gz PackageFileSize: 499.4 KiB