Package: SigsPack Version: 1.18.0 Command: /home/biocbuild/bbs-3.19-bioc/R/bin/R CMD check --install=check:SigsPack.install-out.txt --library=/home/biocbuild/bbs-3.19-bioc/R/site-library --timings SigsPack_1.18.0.tar.gz StartedAt: 2024-10-17 05:09:26 -0400 (Thu, 17 Oct 2024) EndedAt: 2024-10-17 05:12:52 -0400 (Thu, 17 Oct 2024) EllapsedTime: 205.4 seconds RetCode: 0 Status: OK CheckDir: SigsPack.Rcheck Warnings: 0