Package: SigsPack Version: 1.18.0 Command: rm -rf SigsPack.buildbin-libdir && mkdir SigsPack.buildbin-libdir && F:\biocbuild\bbs-3.19-bioc\R\bin\R.exe CMD INSTALL --build --library=SigsPack.buildbin-libdir SigsPack_1.18.0.tar.gz StartedAt: 2024-06-27 08:55:54 -0400 (Thu, 27 Jun 2024) EndedAt: 2024-06-27 08:56:01 -0400 (Thu, 27 Jun 2024) EllapsedTime: 7.1 seconds RetCode: 0 Status: OK PackageFile: SigsPack_1.18.0.zip PackageFileSize: 478.9 KiB