Package: SigsPack Version: 1.18.0 Command: rm -rf SigsPack.buildbin-libdir && mkdir SigsPack.buildbin-libdir && E:\biocbuild\bbs-3.19-bioc\R\bin\R.exe CMD INSTALL --build --library=SigsPack.buildbin-libdir SigsPack_1.18.0.tar.gz StartedAt: 2024-10-17 08:38:58 -0400 (Thu, 17 Oct 2024) EndedAt: 2024-10-17 08:39:11 -0400 (Thu, 17 Oct 2024) EllapsedTime: 12.5 seconds RetCode: 0 Status: OK PackageFile: SigsPack_1.18.0.zip PackageFileSize: 478.7 KiB