Package: SigsPack Version: 1.18.0 Command: chmod a+r SigsPack -R && E:\biocbuild\bbs-3.19-bioc\R\bin\R.exe CMD build --keep-empty-dirs --no-resave-data SigsPack StartedAt: 2024-10-16 21:58:11 -0400 (Wed, 16 Oct 2024) EndedAt: 2024-10-16 22:04:12 -0400 (Wed, 16 Oct 2024) EllapsedTime: 360.2 seconds RetCode: 0 Status: OK PackageFile: SigsPack_1.18.0.tar.gz PackageFileSize: 460.7 KiB