Package: SimBu Version: 1.6.0 Command: /Library/Frameworks/R.framework/Resources/bin/R CMD build --keep-empty-dirs --no-resave-data SimBu StartedAt: 2024-10-17 09:21:13 -0400 (Thu, 17 Oct 2024) EndedAt: 2024-10-17 09:22:10 -0400 (Thu, 17 Oct 2024) EllapsedTime: 56.9 seconds RetCode: 0 Status: OK PackageFile: SimBu_1.6.0.tar.gz PackageFileSize: 221 KiB