Package: SimBu Version: 1.6.0 Command: /Library/Frameworks/R.framework/Resources/bin/R CMD INSTALL SimBu StartedAt: 2024-10-16 18:08:29 -0400 (Wed, 16 Oct 2024) EndedAt: 2024-10-16 18:08:37 -0400 (Wed, 16 Oct 2024) EllapsedTime: 8.5 seconds RetCode: 0 Status: OK