Package: SimBu Version: 1.6.0 Command: /Library/Frameworks/R.framework/Resources/bin/R CMD check --install=check:SimBu.install-out.txt --library=/Library/Frameworks/R.framework/Resources/library --no-vignettes --timings SimBu_1.6.0.tar.gz StartedAt: 2024-06-11 05:45:44 -0400 (Tue, 11 Jun 2024) EndedAt: 2024-06-11 06:00:33 -0400 (Tue, 11 Jun 2024) EllapsedTime: 888.7 seconds RetCode: 0 Status: OK CheckDir: SimBu.Rcheck Warnings: 0