Package: SimBu Version: 1.6.0 Command: /home/biocbuild/R/R-beta-2024-04-15_r86425/bin/R CMD build --keep-empty-dirs --no-resave-data SimBu StartedAt: 2024-05-09 03:38:04 -0000 (Thu, 09 May 2024) EndedAt: 2024-05-09 03:39:00 -0000 (Thu, 09 May 2024) EllapsedTime: 56.1 seconds RetCode: 0 Status: OK PackageFile: SimBu_1.6.0.tar.gz PackageFileSize: 137.4 KiB