Package: SimBu Version: 1.6.0 Command: /home/biocbuild/R/R-beta-2024-04-15_r86425/bin/R CMD INSTALL SimBu StartedAt: 2024-05-08 20:53:33 -0000 (Wed, 08 May 2024) EndedAt: 2024-05-08 20:53:40 -0000 (Wed, 08 May 2024) EllapsedTime: 7.3 seconds RetCode: 0 Status: OK