Package: SimBu Version: 1.6.0 Command: rm -rf SimBu.buildbin-libdir && mkdir SimBu.buildbin-libdir && /Users/biocbuild/BBS/utils/build-universal.sh SimBu_1.6.0.tar.gz /Library/Frameworks/R.framework/Resources/bin/R SimBu.buildbin-libdir StartedAt: 2024-06-10 00:40:22 -0400 (Mon, 10 Jun 2024) EndedAt: 2024-06-10 00:40:36 -0400 (Mon, 10 Jun 2024) EllapsedTime: 13.8 seconds RetCode: 0 Status: OK PackageFile: SimBu_1.6.0.tgz PackageFileSize: 321.6 KiB