Package: SimBu Version: 1.6.0 Command: rm -rf SimBu.buildbin-libdir && mkdir SimBu.buildbin-libdir && /Users/biocbuild/BBS/utils/build-universal.sh SimBu_1.6.0.tar.gz /Library/Frameworks/R.framework/Resources/bin/R SimBu.buildbin-libdir StartedAt: 2024-10-17 17:12:58 -0400 (Thu, 17 Oct 2024) EndedAt: 2024-10-17 17:13:15 -0400 (Thu, 17 Oct 2024) EllapsedTime: 16.9 seconds RetCode: 0 Status: OK PackageFile: SimBu_1.6.0.tgz PackageFileSize: 322.4 KiB