Package: SimBu Version: 1.6.0 Command: /Library/Frameworks/R.framework/Resources/bin/R CMD build --keep-empty-dirs --no-resave-data SimBu StartedAt: 2024-10-16 23:22:36 -0400 (Wed, 16 Oct 2024) EndedAt: 2024-10-16 23:24:38 -0400 (Wed, 16 Oct 2024) EllapsedTime: 121.3 seconds RetCode: 0 Status: OK PackageFile: SimBu_1.6.0.tar.gz PackageFileSize: 220.6 KiB