Package: SimBu Version: 1.6.0 Command: /Library/Frameworks/R.framework/Resources/bin/R CMD check --install=check:SimBu.install-out.txt --library=/Library/Frameworks/R.framework/Resources/library --no-vignettes --timings SimBu_1.6.0.tar.gz StartedAt: 2024-10-17 13:15:21 -0400 (Thu, 17 Oct 2024) EndedAt: 2024-10-17 13:22:17 -0400 (Thu, 17 Oct 2024) EllapsedTime: 415.6 seconds RetCode: 1 Status: ERROR CheckDir: SimBu.Rcheck Warnings: NA