Package: SimBu Version: 1.6.0 Command: /Library/Frameworks/R.framework/Resources/bin/R CMD INSTALL SimBu StartedAt: 2024-10-16 16:27:07 -0400 (Wed, 16 Oct 2024) EndedAt: 2024-10-16 16:27:22 -0400 (Wed, 16 Oct 2024) EllapsedTime: 15.1 seconds RetCode: 0 Status: OK