Package: SimBu Version: 1.6.0 Command: /home/biocbuild/bbs-3.19-bioc/R/bin/R CMD build --keep-empty-dirs --no-resave-data SimBu StartedAt: 2024-10-16 20:51:23 -0400 (Wed, 16 Oct 2024) EndedAt: 2024-10-16 20:52:07 -0400 (Wed, 16 Oct 2024) EllapsedTime: 43.1 seconds RetCode: 0 Status: OK PackageFile: SimBu_1.6.0.tar.gz PackageFileSize: 188.1 KiB