Package: SimBu Version: 1.6.0 Command: chmod a+r SimBu -R && F:\biocbuild\bbs-3.19-bioc\R\bin\R.exe CMD build --keep-empty-dirs --no-resave-data SimBu StartedAt: 2024-06-26 21:58:25 -0400 (Wed, 26 Jun 2024) EndedAt: 2024-06-26 21:59:37 -0400 (Wed, 26 Jun 2024) EllapsedTime: 72.2 seconds RetCode: 0 Status: OK PackageFile: SimBu_1.6.0.tar.gz PackageFileSize: 114.9 KiB