Package: SimBu Version: 1.6.0 Command: rm -rf SimBu.buildbin-libdir && mkdir SimBu.buildbin-libdir && E:\biocbuild\bbs-3.19-bioc\R\bin\R.exe CMD INSTALL --build --library=SimBu.buildbin-libdir SimBu_1.6.0.tar.gz StartedAt: 2024-10-17 08:39:16 -0400 (Thu, 17 Oct 2024) EndedAt: 2024-10-17 08:39:35 -0400 (Thu, 17 Oct 2024) EllapsedTime: 18.7 seconds RetCode: 0 Status: OK PackageFile: SimBu_1.6.0.zip PackageFileSize: 230.3 KiB